BEGIN:VCALENDAR
VERSION:2.0
PRODID:-//St. Peter's Parish &amp; School - ECPv6.15.20//NONSGML v1.0//EN
CALSCALE:GREGORIAN
METHOD:PUBLISH
X-WR-CALNAME:St. Peter's Parish &amp; School
X-ORIGINAL-URL:https://mansfieldstpeters.org
X-WR-CALDESC:Events for St. Peter's Parish &amp; School
REFRESH-INTERVAL;VALUE=DURATION:PT1H
X-Robots-Tag:noindex
X-PUBLISHED-TTL:PT1H
BEGIN:VTIMEZONE
TZID:America/New_York
BEGIN:DAYLIGHT
TZOFFSETFROM:-0500
TZOFFSETTO:-0400
TZNAME:EDT
DTSTART:20240310T070000
END:DAYLIGHT
BEGIN:STANDARD
TZOFFSETFROM:-0400
TZOFFSETTO:-0500
TZNAME:EST
DTSTART:20241103T060000
END:STANDARD
BEGIN:DAYLIGHT
TZOFFSETFROM:-0500
TZOFFSETTO:-0400
TZNAME:EDT
DTSTART:20250309T070000
END:DAYLIGHT
BEGIN:STANDARD
TZOFFSETFROM:-0400
TZOFFSETTO:-0500
TZNAME:EST
DTSTART:20251102T060000
END:STANDARD
BEGIN:DAYLIGHT
TZOFFSETFROM:-0500
TZOFFSETTO:-0400
TZNAME:EDT
DTSTART:20260308T070000
END:DAYLIGHT
BEGIN:STANDARD
TZOFFSETFROM:-0400
TZOFFSETTO:-0500
TZNAME:EST
DTSTART:20261101T060000
END:STANDARD
END:VTIMEZONE
BEGIN:VEVENT
DTSTART;TZID=America/New_York:20251202T083000
DTEND;TZID=America/New_York:20251202T133000
DTSTAMP:20260421T133137
CREATED:20250812T160318Z
LAST-MODIFIED:20250812T160318Z
UID:10024055-1764664200-1764682200@mansfieldstpeters.org
SUMMARY:Red Cross Blood Drive
DESCRIPTION:
URL:https://mansfieldstpeters.org/event/red-cross-blood-drive-2/
LOCATION:Atrium (FAC)\, OH
CATEGORIES:Church,St. Peter Parish
GEO:40.4172871;-82.907123
END:VEVENT
BEGIN:VEVENT
DTSTART;TZID=America/New_York:20251208T190000
DTEND;TZID=America/New_York:20251208T200000
DTSTAMP:20260421T133137
CREATED:20250916T134642Z
LAST-MODIFIED:20250916T134642Z
UID:10024164-1765220400-1765224000@mansfieldstpeters.org
SUMMARY:Mass
DESCRIPTION:
URL:https://mansfieldstpeters.org/event/mass-28/
CATEGORIES:Church,St. Peter Parish
END:VEVENT
BEGIN:VEVENT
DTSTART;TZID=America/New_York:20251221T150000
DTEND;TZID=America/New_York:20251221T163000
DTSTAMP:20260421T133137
CREATED:20250729T125754Z
LAST-MODIFIED:20250729T131627Z
UID:10023757-1766329200-1766334600@mansfieldstpeters.org
SUMMARY:Lessons and Carols
DESCRIPTION:
URL:https://mansfieldstpeters.org/event/lessons-and-carols/
CATEGORIES:Church,St. Peter Parish
END:VEVENT
BEGIN:VEVENT
DTSTART;TZID=America/New_York:20251221T150000
DTEND;TZID=America/New_York:20251221T163000
DTSTAMP:20260421T133137
CREATED:20250923T125025Z
LAST-MODIFIED:20250923T125025Z
UID:10024190-1766329200-1766334600@mansfieldstpeters.org
SUMMARY:Outreach Meals
DESCRIPTION:
URL:https://mansfieldstpeters.org/event/outreach-meals-3/2025-12-21/
CATEGORIES:Church,St. Peter Parish
END:VEVENT
BEGIN:VEVENT
DTSTART;TZID=America/New_York:20251224T170000
DTEND;TZID=America/New_York:20251224T180000
DTSTAMP:20260421T133137
CREATED:20250506T151317Z
LAST-MODIFIED:20250506T151336Z
UID:10023191-1766595600-1766599200@mansfieldstpeters.org
SUMMARY:Mass
DESCRIPTION:
URL:https://mansfieldstpeters.org/event/mass-76/
LOCATION:St Peter Catholic Church\, OH\, United States
CATEGORIES:Church,St. Peter Parish
END:VEVENT
BEGIN:VEVENT
DTSTART;TZID=America/New_York:20251224T190000
DTEND;TZID=America/New_York:20251224T200000
DTSTAMP:20260421T133137
CREATED:20250506T151452Z
LAST-MODIFIED:20250506T151452Z
UID:10023192-1766602800-1766606400@mansfieldstpeters.org
SUMMARY:Mass
DESCRIPTION:
URL:https://mansfieldstpeters.org/event/mass-77/2025-12-24/
LOCATION:St Peter Catholic Church\, OH\, United States
CATEGORIES:Church,St. Peter Parish
END:VEVENT
BEGIN:VEVENT
DTSTART;TZID=America/New_York:20251224T220000
DTEND;TZID=America/New_York:20251224T230000
DTSTAMP:20260421T133137
CREATED:20250506T151609Z
LAST-MODIFIED:20250506T151609Z
UID:10023197-1766613600-1766617200@mansfieldstpeters.org
SUMMARY:Mass
DESCRIPTION:
URL:https://mansfieldstpeters.org/event/mass-78/2025-12-24/
LOCATION:St Peter Catholic Church\, OH\, United States
CATEGORIES:Church,St. Peter Parish
END:VEVENT
BEGIN:VEVENT
DTSTART;TZID=America/New_York:20251225T080000
DTEND;TZID=America/New_York:20251225T090000
DTSTAMP:20260421T133137
CREATED:20250506T151752Z
LAST-MODIFIED:20250506T151752Z
UID:10023202-1766649600-1766653200@mansfieldstpeters.org
SUMMARY:Mass
DESCRIPTION:
URL:https://mansfieldstpeters.org/event/mass-79/2025-12-25/
LOCATION:St Peter Catholic Church\, OH\, United States
CATEGORIES:Church,St. Peter Parish
END:VEVENT
BEGIN:VEVENT
DTSTART;TZID=America/New_York:20251225T100000
DTEND;TZID=America/New_York:20251225T110000
DTSTAMP:20260421T133137
CREATED:20250506T152030Z
LAST-MODIFIED:20250506T152030Z
UID:10023217-1766656800-1766660400@mansfieldstpeters.org
SUMMARY:Mass
DESCRIPTION:
URL:https://mansfieldstpeters.org/event/mass-82/2025-12-25/
LOCATION:St Peter Catholic Church\, OH\, United States
CATEGORIES:Church,St. Peter Parish
END:VEVENT
BEGIN:VEVENT
DTSTART;TZID=America/New_York:20251225T170000
DTEND;TZID=America/New_York:20251225T180000
DTSTAMP:20260421T133137
CREATED:20250506T152111Z
LAST-MODIFIED:20250506T152111Z
UID:10023222-1766682000-1766685600@mansfieldstpeters.org
SUMMARY:Mass
DESCRIPTION:
URL:https://mansfieldstpeters.org/event/mass-83/2025-12-25/
LOCATION:St Peter Catholic Church\, OH\, United States
CATEGORIES:Church,St. Peter Parish
END:VEVENT
BEGIN:VEVENT
DTSTART;TZID=America/New_York:20251228T084500
DTEND;TZID=America/New_York:20251228T091500
DTSTAMP:20260421T133137
CREATED:20250722T191940Z
LAST-MODIFIED:20250722T191940Z
UID:10023365-1766911500-1766913300@mansfieldstpeters.org
SUMMARY:Donut Sunday after 7:30 Mass
DESCRIPTION:
URL:https://mansfieldstpeters.org/event/donut-sunday-after-730-mass-8/
CATEGORIES:Church,St. Peter Parish
END:VEVENT
BEGIN:VEVENT
DTSTART;TZID=America/New_York:20251228T104500
DTEND;TZID=America/New_York:20251228T111500
DTSTAMP:20260421T133137
CREATED:20250722T192355Z
LAST-MODIFIED:20250722T192355Z
UID:10023366-1766918700-1766920500@mansfieldstpeters.org
SUMMARY:Donut Sunday after 9:30 Mass
DESCRIPTION:
URL:https://mansfieldstpeters.org/event/donut-sunday-after-930-mass-7/
CATEGORIES:Church,St. Peter Parish
END:VEVENT
BEGIN:VEVENT
DTSTART;TZID=America/New_York:20251231T070000
DTEND;TZID=America/New_York:20251231T200000
DTSTAMP:20260421T133137
CREATED:20250506T153626Z
LAST-MODIFIED:20250506T153626Z
UID:10023227-1767164400-1767211200@mansfieldstpeters.org
SUMMARY:Mass
DESCRIPTION:
URL:https://mansfieldstpeters.org/event/mass-84/2025-12-31/
LOCATION:St Peter Catholic Church\, OH\, United States
CATEGORIES:Church,St. Peter Parish
END:VEVENT
BEGIN:VEVENT
DTSTART;TZID=America/New_York:20251231T170000
DTEND;TZID=America/New_York:20251231T180000
DTSTAMP:20260421T133137
CREATED:20250506T153709Z
LAST-MODIFIED:20250506T153709Z
UID:10023232-1767200400-1767204000@mansfieldstpeters.org
SUMMARY:Mass
DESCRIPTION:
URL:https://mansfieldstpeters.org/event/mass-85/2025-12-31/
LOCATION:St Peter Catholic Church\, OH\, United States
CATEGORIES:Church,St. Peter Parish
END:VEVENT
END:VCALENDAR