BEGIN:VCALENDAR
VERSION:2.0
PRODID:-//St. Peter's Parish &amp; School - ECPv6.15.20//NONSGML v1.0//EN
CALSCALE:GREGORIAN
METHOD:PUBLISH
X-WR-CALNAME:St. Peter's Parish &amp; School
X-ORIGINAL-URL:https://mansfieldstpeters.org
X-WR-CALDESC:Events for St. Peter's Parish &amp; School
REFRESH-INTERVAL;VALUE=DURATION:PT1H
X-Robots-Tag:noindex
X-PUBLISHED-TTL:PT1H
BEGIN:VTIMEZONE
TZID:America/New_York
BEGIN:DAYLIGHT
TZOFFSETFROM:-0500
TZOFFSETTO:-0400
TZNAME:EDT
DTSTART:20240310T070000
END:DAYLIGHT
BEGIN:STANDARD
TZOFFSETFROM:-0400
TZOFFSETTO:-0500
TZNAME:EST
DTSTART:20241103T060000
END:STANDARD
BEGIN:DAYLIGHT
TZOFFSETFROM:-0500
TZOFFSETTO:-0400
TZNAME:EDT
DTSTART:20250309T070000
END:DAYLIGHT
BEGIN:STANDARD
TZOFFSETFROM:-0400
TZOFFSETTO:-0500
TZNAME:EST
DTSTART:20251102T060000
END:STANDARD
BEGIN:DAYLIGHT
TZOFFSETFROM:-0500
TZOFFSETTO:-0400
TZNAME:EDT
DTSTART:20260308T070000
END:DAYLIGHT
BEGIN:STANDARD
TZOFFSETFROM:-0400
TZOFFSETTO:-0500
TZNAME:EST
DTSTART:20261101T060000
END:STANDARD
END:VTIMEZONE
BEGIN:VEVENT
DTSTART;TZID=America/New_York:20251130T084500
DTEND;TZID=America/New_York:20251130T091500
DTSTAMP:20260421T163427
CREATED:20250722T191704Z
LAST-MODIFIED:20250722T191704Z
UID:10023363-1764492300-1764494100@mansfieldstpeters.org
SUMMARY:Donut Sunday after 7:30 Mass
DESCRIPTION:
URL:https://mansfieldstpeters.org/event/donut-sunday-after-730-mass-7/
CATEGORIES:Church,St. Peter Parish
END:VEVENT
BEGIN:VEVENT
DTSTART;TZID=America/New_York:20251130T104500
DTEND;TZID=America/New_York:20251130T111500
DTSTAMP:20260421T163427
CREATED:20250722T191840Z
LAST-MODIFIED:20250722T191840Z
UID:10023364-1764499500-1764501300@mansfieldstpeters.org
SUMMARY:Donut Sunday after 9:30 Mass
DESCRIPTION:
URL:https://mansfieldstpeters.org/event/donut-sunday-after-930-mass-6/
CATEGORIES:Church,St. Peter Parish
END:VEVENT
BEGIN:VEVENT
DTSTART;TZID=America/New_York:20251202T083000
DTEND;TZID=America/New_York:20251202T133000
DTSTAMP:20260421T163427
CREATED:20250812T160318Z
LAST-MODIFIED:20250812T160318Z
UID:10024055-1764664200-1764682200@mansfieldstpeters.org
SUMMARY:Red Cross Blood Drive
DESCRIPTION:
URL:https://mansfieldstpeters.org/event/red-cross-blood-drive-2/
LOCATION:Atrium (FAC)\, OH
CATEGORIES:Church,St. Peter Parish
GEO:40.4172871;-82.907123
END:VEVENT
END:VCALENDAR