BEGIN:VCALENDAR
VERSION:2.0
PRODID:-//St. Peter's Parish &amp; School - ECPv6.15.20//NONSGML v1.0//EN
CALSCALE:GREGORIAN
METHOD:PUBLISH
X-WR-CALNAME:St. Peter's Parish &amp; School
X-ORIGINAL-URL:https://mansfieldstpeters.org
X-WR-CALDESC:Events for St. Peter's Parish &amp; School
REFRESH-INTERVAL;VALUE=DURATION:PT1H
X-Robots-Tag:noindex
X-PUBLISHED-TTL:PT1H
BEGIN:VTIMEZONE
TZID:America/New_York
BEGIN:DAYLIGHT
TZOFFSETFROM:-0500
TZOFFSETTO:-0400
TZNAME:EDT
DTSTART:20270314T070000
END:DAYLIGHT
BEGIN:STANDARD
TZOFFSETFROM:-0400
TZOFFSETTO:-0500
TZNAME:EST
DTSTART:20271107T060000
END:STANDARD
BEGIN:DAYLIGHT
TZOFFSETFROM:-0500
TZOFFSETTO:-0400
TZNAME:EDT
DTSTART:20280312T070000
END:DAYLIGHT
BEGIN:STANDARD
TZOFFSETFROM:-0400
TZOFFSETTO:-0500
TZNAME:EST
DTSTART:20281105T060000
END:STANDARD
BEGIN:DAYLIGHT
TZOFFSETFROM:-0500
TZOFFSETTO:-0400
TZNAME:EDT
DTSTART:20290311T070000
END:DAYLIGHT
BEGIN:STANDARD
TZOFFSETFROM:-0400
TZOFFSETTO:-0500
TZNAME:EST
DTSTART:20291104T060000
END:STANDARD
END:VTIMEZONE
BEGIN:VEVENT
DTSTART;TZID=America/New_York:20281224T160000
DTEND;TZID=America/New_York:20281224T170000
DTSTAMP:20260421T115936
CREATED:20250506T151050Z
LAST-MODIFIED:20250506T151050Z
UID:10023188-1861286400-1861290000@mansfieldstpeters.org
SUMMARY:Mass
DESCRIPTION:
URL:https://mansfieldstpeters.org/event/mass-7/2028-12-24/
LOCATION:St Mary of the Snows\, OH\, United States
CATEGORIES:Church,St. Mary Parish
END:VEVENT
BEGIN:VEVENT
DTSTART;TZID=America/New_York:20281224T190000
DTEND;TZID=America/New_York:20281224T200000
DTSTAMP:20260421T115936
CREATED:20250506T151452Z
LAST-MODIFIED:20250506T151452Z
UID:10023195-1861297200-1861300800@mansfieldstpeters.org
SUMMARY:Mass
DESCRIPTION:
URL:https://mansfieldstpeters.org/event/mass-77/2028-12-24/
LOCATION:St Peter Catholic Church\, OH\, United States
CATEGORIES:Church,St. Peter Parish
END:VEVENT
BEGIN:VEVENT
DTSTART;TZID=America/New_York:20281224T220000
DTEND;TZID=America/New_York:20281224T230000
DTSTAMP:20260421T115936
CREATED:20250506T151609Z
LAST-MODIFIED:20250506T151609Z
UID:10023200-1861308000-1861311600@mansfieldstpeters.org
SUMMARY:Mass
DESCRIPTION:
URL:https://mansfieldstpeters.org/event/mass-78/2028-12-24/
LOCATION:St Peter Catholic Church\, OH\, United States
CATEGORIES:Church,St. Peter Parish
END:VEVENT
BEGIN:VEVENT
DTSTART;TZID=America/New_York:20281225T080000
DTEND;TZID=America/New_York:20281225T090000
DTSTAMP:20260421T115936
CREATED:20250506T151752Z
LAST-MODIFIED:20250506T151752Z
UID:10023205-1861344000-1861347600@mansfieldstpeters.org
SUMMARY:Mass
DESCRIPTION:
URL:https://mansfieldstpeters.org/event/mass-79/2028-12-25/
LOCATION:St Peter Catholic Church\, OH\, United States
CATEGORIES:Church,St. Peter Parish
END:VEVENT
BEGIN:VEVENT
DTSTART;TZID=America/New_York:20281225T090000
DTEND;TZID=America/New_York:20281225T100000
DTSTAMP:20260421T115936
CREATED:20250506T151853Z
LAST-MODIFIED:20250506T151853Z
UID:10023210-1861347600-1861351200@mansfieldstpeters.org
SUMMARY:Mass
DESCRIPTION:
URL:https://mansfieldstpeters.org/event/mass-80/2028-12-25/
LOCATION:Resurrection Parish\, Lexington OH\, 2600 Lexington Ave\, Mansfield\, OH\, 44904\, United States
CATEGORIES:Church,Resurrection Parish
GEO:40.6910786;-82.5652632
X-APPLE-STRUCTURED-LOCATION;VALUE=URI;X-ADDRESS=Resurrection Parish Lexington OH 2600 Lexington Ave Mansfield OH 44904 United States;X-APPLE-RADIUS=500;X-TITLE=2600 Lexington Ave:geo:-82.5652632,40.6910786
END:VEVENT
BEGIN:VEVENT
DTSTART;TZID=America/New_York:20281225T090000
DTEND;TZID=America/New_York:20281225T100000
DTSTAMP:20260421T115936
CREATED:20250506T151944Z
LAST-MODIFIED:20250506T151944Z
UID:10023215-1861347600-1861351200@mansfieldstpeters.org
SUMMARY:Mass
DESCRIPTION:
URL:https://mansfieldstpeters.org/event/mass-81/2028-12-25/
LOCATION:St Marys of the Snows\, 1630 Ashland Road\, Mansfield\, OH\, United States
CATEGORIES:Church,St. Mary Parish
END:VEVENT
BEGIN:VEVENT
DTSTART;TZID=America/New_York:20281225T100000
DTEND;TZID=America/New_York:20281225T110000
DTSTAMP:20260421T115936
CREATED:20250506T152030Z
LAST-MODIFIED:20250506T152030Z
UID:10023220-1861351200-1861354800@mansfieldstpeters.org
SUMMARY:Mass
DESCRIPTION:
URL:https://mansfieldstpeters.org/event/mass-82/2028-12-25/
LOCATION:St Peter Catholic Church\, OH\, United States
CATEGORIES:Church,St. Peter Parish
END:VEVENT
BEGIN:VEVENT
DTSTART;TZID=America/New_York:20281225T170000
DTEND;TZID=America/New_York:20281225T180000
DTSTAMP:20260421T115936
CREATED:20250506T152111Z
LAST-MODIFIED:20250506T152111Z
UID:10023225-1861376400-1861380000@mansfieldstpeters.org
SUMMARY:Mass
DESCRIPTION:
URL:https://mansfieldstpeters.org/event/mass-83/2028-12-25/
LOCATION:St Peter Catholic Church\, OH\, United States
CATEGORIES:Church,St. Peter Parish
END:VEVENT
END:VCALENDAR